BEGIN:VCALENDAR
VERSION:2.0
PRODID:calendify.com
BEGIN:VEVENT
UID:calendify-session-Ejw4Yl3agQ1
DTSTART:20201229T110000Z
SEQUENCE:0
TRANSP:OPAQUE
DTEND:20201229T122000Z
URL:https://calendify.com/session/Ejw4Yl3agQ1
LOCATION:Chaos-West TV
SUMMARY:Infinity
CLASS:PUBLIC
DESCRIPTION:https://calendify.com/session/Ejw4Yl3agQ1
DTSTAMP:20260425T205318Z
CREATED:20201221T231542Z
LAST-MODIFIED:20210114T154804Z
END:VEVENT
END:VCALENDAR