BEGIN:VCALENDAR
VERSION:2.0
PRODID:calendify.com
BEGIN:VEVENT
UID:calendify-session-Ejw4YlejgQ1
DTSTART:20180402T110000Z
SEQUENCE:0
TRANSP:OPAQUE
DTEND:20180402T120000Z
URL:https://calendify.com/session/Ejw4YlejgQ1
LOCATION:Heisenberg 1
SUMMARY:Crypto-Beschleuniger mit Open-Source-Hardware
CLASS:PUBLIC
DESCRIPTION:https://calendify.com/session/Ejw4YlejgQ1
DTSTAMP:20260422T222508Z
CREATED:20200520T231946Z
LAST-MODIFIED:20200520T231946Z
END:VEVENT
END:VCALENDAR