BEGIN:VCALENDAR
VERSION:2.0
PRODID:calendify.com
BEGIN:VEVENT
UID:calendify-session-Ejw4Ymaa4Q1
DTSTART:20191227T195000Z
SEQUENCE:0
TRANSP:OPAQUE
DTEND:20191227T205000Z
URL:https://calendify.com/session/Ejw4Ymaa4Q1
LOCATION:Clarke
SUMMARY:Digitalisierte Migrationskontrolle
CLASS:PUBLIC
DESCRIPTION:https://calendify.com/session/Ejw4Ymaa4Q1
DTSTAMP:20260423T134803Z
CREATED:20200429T014034Z
LAST-MODIFIED:20200429T014034Z
END:VEVENT
END:VCALENDAR