BEGIN:VCALENDAR
VERSION:2.0
PRODID:calendify.com
BEGIN:VEVENT
UID:calendify-session-Ejw4Yq6r4Q1
DTSTART:20231227T210500Z
SEQUENCE:0
TRANSP:OPAQUE
DTEND:20231227T214500Z
URL:https://calendify.com/session/Ejw4Yq6r4Q1
LOCATION:Saal Zuse
SUMMARY:SMTP Smuggling – Spoofing E-Mails Worldwide
CLASS:PUBLIC
DESCRIPTION:https://calendify.com/session/Ejw4Yq6r4Q1
DTSTAMP:20260423T020509Z
CREATED:20231215T204819Z
LAST-MODIFIED:20240401T142932Z
END:VEVENT
END:VCALENDAR