BEGIN:VCALENDAR
VERSION:2.0
PRODID:calendify.com
BEGIN:VEVENT
UID:calendify-session-Ejw4YqAe4Q1
DTSTART:20231228T220000Z
SEQUENCE:0
TRANSP:OPAQUE
DTEND:20231228T230000Z
URL:https://calendify.com/session/Ejw4YqAe4Q1
LOCATION:Saal Granville
SUMMARY:BLUFFS: Bluetooth Forward and Future Secrecy Attacks and Defenses
CLASS:PUBLIC
DESCRIPTION:https://calendify.com/session/Ejw4YqAe4Q1
DTSTAMP:20260423T071024Z
CREATED:20231215T204820Z
LAST-MODIFIED:20240401T142932Z
END:VEVENT
END:VCALENDAR