BEGIN:VCALENDAR
VERSION:2.0
PRODID:calendify.com
BEGIN:VEVENT
UID:calendify-session-Ejw4YqD84Q1
DTSTART:20231228T110000Z
SEQUENCE:0
TRANSP:OPAQUE
DTEND:20231228T123000Z
URL:https://calendify.com/session/Ejw4YqD84Q1
LOCATION:Stage Y
SUMMARY:(Looking at) Functional Programming in Assembly
CLASS:PUBLIC
DESCRIPTION:https://calendify.com/session/Ejw4YqD84Q1
DTSTAMP:20260423T004331Z
CREATED:20231225T204003Z
LAST-MODIFIED:20240401T142932Z
END:VEVENT
END:VCALENDAR