BEGIN:VCALENDAR
VERSION:2.0
PRODID:calendify.com
BEGIN:VEVENT
UID:calendify-session-Ejw4YqKj4Q1
DTSTART:20230715T080000Z
SEQUENCE:0
TRANSP:OPAQUE
DTEND:20230715T090000Z
URL:https://calendify.com/session/Ejw4YqKj4Q1
LOCATION:Raum 1.5
SUMMARY:Kubernetes GUT&GÜNSTIG
CLASS:PUBLIC
DESCRIPTION:https://calendify.com/session/Ejw4YqKj4Q1
DTSTAMP:20260420T193921Z
CREATED:20230806T113150Z
LAST-MODIFIED:20230806T113150Z
END:VEVENT
END:VCALENDAR