BEGIN:VCALENDAR
VERSION:2.0
PRODID:calendify.com
BEGIN:VEVENT
UID:calendify-session-Ejw4Yqlj4Q1
DTSTART:20230722T173000Z
SEQUENCE:0
TRANSP:OPAQUE
DTEND:20230722T183000Z
URL:https://calendify.com/session/Ejw4Yqlj4Q1
LOCATION:Vortragsraum
SUMMARY:Incels\, Manoshpere\, Antifeminismus - im Mainstream angekommen?
CLASS:PUBLIC
DESCRIPTION:https://calendify.com/session/Ejw4Yqlj4Q1
DTSTAMP:20260424T025019Z
CREATED:20230806T113705Z
LAST-MODIFIED:20230806T113705Z
END:VEVENT
END:VCALENDAR