BEGIN:VCALENDAR
VERSION:2.0
PRODID:calendify.com
BEGIN:VEVENT
UID:calendify-session-Ejw4Yqoj4Q1
DTSTART:20231230T130000Z
SEQUENCE:0
TRANSP:OPAQUE
DTEND:20231230T140000Z
URL:https://calendify.com/session/Ejw4Yqoj4Q1
LOCATION:Stage H
SUMMARY:Fairphone Meetup
CLASS:PUBLIC
DESCRIPTION:https://calendify.com/session/Ejw4Yqoj4Q1
DTSTAMP:20260423T070700Z
CREATED:20231229T103004Z
LAST-MODIFIED:20240401T142934Z
END:VEVENT
END:VCALENDAR