BEGIN:VCALENDAR
VERSION:2.0
PRODID:calendify.com
BEGIN:VEVENT
UID:calendify-session-JB9MK7WEMrD
DTSTART:20221227T174500Z
SEQUENCE:0
TRANSP:OPAQUE
DTEND:20221227T181500Z
URL:https://calendify.com/session/JB9MK7WEMrD
LOCATION:WICMP Seminarraum
SUMMARY:Werd Dein eigener ISPv6
CLASS:PUBLIC
DESCRIPTION:https://calendify.com/session/JB9MK7WEMrD
DTSTAMP:20260420T215758Z
CREATED:20221221T105639Z
LAST-MODIFIED:20221230T225006Z
END:VEVENT
END:VCALENDAR