BEGIN:VCALENDAR
VERSION:2.0
PRODID:calendify.com
BEGIN:VEVENT
UID:calendify-session-JB9MK7qzMrD
DTSTART:20220725T120000Z
SEQUENCE:0
TRANSP:OPAQUE
DTEND:20220725T130000Z
URL:https://calendify.com/session/JB9MK7qzMrD
LOCATION:Family Zone 👪
SUMMARY:Balloon folding for adults
CLASS:PUBLIC
DESCRIPTION:https://calendify.com/session/JB9MK7qzMrD
DTSTAMP:20260421T122254Z
CREATED:20220725T094113Z
LAST-MODIFIED:20220726T182703Z
END:VEVENT
END:VCALENDAR