BEGIN:VCALENDAR
VERSION:2.0
PRODID:calendify.com
BEGIN:VEVENT
UID:calendify-session-JB9MK82zgrD
DTSTART:20231229T040000Z
SEQUENCE:0
TRANSP:OPAQUE
DTEND:20231229T070000Z
URL:https://calendify.com/session/JB9MK82zgrD
LOCATION:Chillout Lounge
SUMMARY:Jill\, Janis & Ben
CLASS:PUBLIC
DESCRIPTION:https://calendify.com/session/JB9MK82zgrD
DTSTAMP:20260423T015523Z
CREATED:20231228T212002Z
LAST-MODIFIED:20240401T142932Z
END:VEVENT
END:VCALENDAR