BEGIN:VCALENDAR
VERSION:2.0
PRODID:calendify.com
BEGIN:VEVENT
UID:calendify-session-JB9MK8BXgrD
DTSTART:20231228T183000Z
SEQUENCE:0
TRANSP:OPAQUE
DTEND:20231228T200000Z
URL:https://calendify.com/session/JB9MK8BXgrD
LOCATION:Stage Y
SUMMARY:AD(H)S-Meetup (de)
CLASS:PUBLIC
DESCRIPTION:https://calendify.com/session/JB9MK8BXgrD
DTSTAMP:20260423T003519Z
CREATED:20231221T182738Z
LAST-MODIFIED:20240401T142932Z
END:VEVENT
END:VCALENDAR