BEGIN:VCALENDAR
VERSION:2.0
PRODID:calendify.com
BEGIN:VEVENT
UID:calendify-session-JB9MK8JagrD
DTSTART:20231227T171500Z
SEQUENCE:0
TRANSP:OPAQUE
DTEND:20231227T185500Z
URL:https://calendify.com/session/JB9MK8JagrD
LOCATION:Pseudoroom
SUMMARY:Tischspielrunde - Bring your own game
CLASS:PUBLIC
DESCRIPTION:https://calendify.com/session/JB9MK8JagrD
DTSTAMP:20260423T003751Z
CREATED:20231226T101002Z
LAST-MODIFIED:20240401T142932Z
END:VEVENT
END:VCALENDAR