BEGIN:VCALENDAR
VERSION:2.0
PRODID:calendify.com
BEGIN:VEVENT
UID:calendify-session-JB9MK8XWgrD
DTSTART:20230819T204500Z
SEQUENCE:0
TRANSP:OPAQUE
DTEND:20230819T223000Z
URL:https://calendify.com/session/JB9MK8XWgrD
LOCATION:N:O:R:T:x
SUMMARY:Nintendo Switch Karaoke
CLASS:PUBLIC
DESCRIPTION:https://calendify.com/session/JB9MK8XWgrD
DTSTAMP:20260422T110755Z
CREATED:20230817T113728Z
LAST-MODIFIED:20240401T150803Z
END:VEVENT
END:VCALENDAR