BEGIN:VCALENDAR
VERSION:2.0
PRODID:calendify.com
BEGIN:VEVENT
UID:calendify-session-JB9MK8dagrD
DTSTART:20231229T170000Z
SEQUENCE:0
TRANSP:OPAQUE
DTEND:20231229T173000Z
URL:https://calendify.com/session/JB9MK8dagrD
LOCATION:Chaoswelle
SUMMARY:Software Defined Radio
CLASS:PUBLIC
DESCRIPTION:https://calendify.com/session/JB9MK8dagrD
DTSTAMP:20260423T030601Z
CREATED:20231226T181002Z
LAST-MODIFIED:20240401T142932Z
END:VEVENT
END:VCALENDAR