BEGIN:VCALENDAR
VERSION:2.0
PRODID:calendify.com
BEGIN:VEVENT
UID:calendify-session-JB9MK8w0grD
DTSTART:20240330T184500Z
SEQUENCE:0
TRANSP:OPAQUE
DTEND:20240330T194500Z
URL:https://calendify.com/session/JB9MK8w0grD
LOCATION:Walhacka - D002
SUMMARY:Eine kleine Geschichte über Sicherheitslücken
CLASS:PUBLIC
DESCRIPTION:https://calendify.com/session/JB9MK8w0grD
DTSTAMP:20260423T230540Z
CREATED:20240328T125150Z
LAST-MODIFIED:20240401T142841Z
END:VEVENT
END:VCALENDAR