BEGIN:VCALENDAR
VERSION:2.0
PRODID:calendify.com
BEGIN:VEVENT
UID:calendify-session-JB9MK91a4rD
DTSTART:20190821T180000Z
SEQUENCE:0
TRANSP:OPAQUE
DTEND:20190821T190000Z
URL:https://calendify.com/session/JB9MK91a4rD
LOCATION:Kemistry Lounge
SUMMARY:Christian Faubel live
CLASS:PUBLIC
DESCRIPTION:https://calendify.com/session/JB9MK91a4rD
DTSTAMP:20260419T184405Z
CREATED:20200513T001655Z
LAST-MODIFIED:20200513T003255Z
END:VEVENT
END:VCALENDAR