BEGIN:VCALENDAR
VERSION:2.0
PRODID:calendify.com
BEGIN:VEVENT
UID:calendify-session-JB9MK92w4rD
DTSTART:20200201T103000Z
SEQUENCE:0
TRANSP:OPAQUE
DTEND:20200201T105500Z
URL:https://calendify.com/session/JB9MK92w4rD
LOCATION:UB4.136
SUMMARY:coverity and oss-fuzz issue solving
CLASS:PUBLIC
DESCRIPTION:https://calendify.com/session/JB9MK92w4rD
DTSTAMP:20260421T053343Z
CREATED:20200513T234730Z
LAST-MODIFIED:20210426T093308Z
END:VEVENT
END:VCALENDAR