BEGIN:VCALENDAR
VERSION:2.0
PRODID:calendify.com
BEGIN:VEVENT
UID:calendify-session-JB9MK9KW4rD
DTSTART:20200507T172500Z
SEQUENCE:0
TRANSP:OPAQUE
DTEND:20200507T175000Z
URL:https://calendify.com/session/JB9MK9KW4rD
LOCATION:ASAP 1
SUMMARY:Ein Blick hinter die Kulissen des erfolgreichsten Corona-Podcasts
CLASS:PUBLIC
DESCRIPTION:https://calendify.com/session/JB9MK9KW4rD
DTSTAMP:20260424T035616Z
CREATED:20200504T092952Z
LAST-MODIFIED:20210113T190848Z
END:VEVENT
END:VCALENDAR