BEGIN:VCALENDAR
VERSION:2.0
PRODID:calendify.com
BEGIN:VEVENT
UID:calendify-session-JB9MK9Wq4rD
DTSTART:20181227T205000Z
SEQUENCE:0
TRANSP:OPAQUE
DTEND:20181227T213000Z
URL:https://calendify.com/session/JB9MK9Wq4rD
LOCATION:Borg
SUMMARY:Genom-Editierung mit CRISPR/Cas
CLASS:PUBLIC
DESCRIPTION:https://calendify.com/session/JB9MK9Wq4rD
DTSTAMP:20260423T080922Z
CREATED:20200509T021800Z
LAST-MODIFIED:20200512T221856Z
END:VEVENT
END:VCALENDAR