BEGIN:VCALENDAR
VERSION:2.0
PRODID:calendify.com
BEGIN:VEVENT
UID:calendify-session-JB9MK9Z04rD
DTSTART:20180512T181500Z
SEQUENCE:0
TRANSP:OPAQUE
DTEND:20180512T211500Z
URL:https://calendify.com/session/JB9MK9Z04rD
LOCATION:ZKM_AckerSpace
SUMMARY:Cthulhu Pen&Paper Session
CLASS:PUBLIC
DESCRIPTION:https://calendify.com/session/JB9MK9Z04rD
DTSTAMP:20260422T031103Z
CREATED:20200513T011828Z
LAST-MODIFIED:20200513T011828Z
END:VEVENT
END:VCALENDAR