BEGIN:VCALENDAR
VERSION:2.0
PRODID:calendify.com
BEGIN:VEVENT
UID:calendify-session-JB9MK9by4rD
DTSTART:20200201T095500Z
SEQUENCE:0
TRANSP:OPAQUE
DTEND:20200201T101500Z
URL:https://calendify.com/session/JB9MK9by4rD
LOCATION:H.2213
SUMMARY:LibrePCB Status Update
CLASS:PUBLIC
DESCRIPTION:https://calendify.com/session/JB9MK9by4rD
DTSTAMP:20260423T204328Z
CREATED:20200513T234730Z
LAST-MODIFIED:20210426T093308Z
END:VEVENT
END:VCALENDAR