BEGIN:VCALENDAR
VERSION:2.0
PRODID:calendify.com
BEGIN:VEVENT
UID:calendify-session-JB9MKA0E4rD
DTSTART:20220610T093000Z
SEQUENCE:0
TRANSP:OPAQUE
DTEND:20220610T100000Z
URL:https://calendify.com/session/JB9MKA0E4rD
LOCATION:Stage 1
SUMMARY:Klimakrise: Das lange Warten auf den Journalismus
CLASS:PUBLIC
DESCRIPTION:https://calendify.com/session/JB9MKA0E4rD
DTSTAMP:20260424T002706Z
CREATED:20220526T162946Z
LAST-MODIFIED:20220613T235204Z
END:VEVENT
END:VCALENDAR