BEGIN:VCALENDAR
VERSION:2.0
PRODID:calendify.com
BEGIN:VEVENT
UID:calendify-session-JB9MKA2w4rD
DTSTART:20220609T141500Z
SEQUENCE:0
TRANSP:OPAQUE
DTEND:20220609T144500Z
URL:https://calendify.com/session/JB9MKA2w4rD
LOCATION:Stage 2
SUMMARY:Barroque Innovation: Cryptocurrency Policy in Latin America
CLASS:PUBLIC
DESCRIPTION:https://calendify.com/session/JB9MKA2w4rD
DTSTAMP:20260423T160057Z
CREATED:20220526T162947Z
LAST-MODIFIED:20220613T235204Z
END:VEVENT
END:VCALENDAR