BEGIN:VCALENDAR
VERSION:2.0
PRODID:calendify.com
BEGIN:VEVENT
UID:calendify-session-JB9MKA7X4rD
DTSTART:20161227T114500Z
SEQUENCE:0
TRANSP:OPAQUE
DTEND:20161227T124500Z
URL:https://calendify.com/session/JB9MKA7X4rD
LOCATION:Saal 6
SUMMARY:Exploiting PHP7 unserialize
CLASS:PUBLIC
DESCRIPTION:https://calendify.com/session/JB9MKA7X4rD
DTSTAMP:20260422T201715Z
CREATED:20220415T135302Z
LAST-MODIFIED:20220415T135302Z
END:VEVENT
END:VCALENDAR