BEGIN:VCALENDAR
VERSION:2.0
PRODID:calendify.com
BEGIN:VEVENT
UID:calendify-session-JB9MKAKW4rD
DTSTART:20220206T091500Z
SEQUENCE:0
TRANSP:OPAQUE
DTEND:20220206T092500Z
URL:https://calendify.com/session/JB9MKAKW4rD
LOCATION:D.public-code
SUMMARY:Welcome to the Public Code devroom
CLASS:PUBLIC
DESCRIPTION:https://calendify.com/session/JB9MKAKW4rD
DTSTAMP:20260420T213752Z
CREATED:20220120T214609Z
LAST-MODIFIED:20220206T225004Z
END:VEVENT
END:VCALENDAR