BEGIN:VCALENDAR
VERSION:2.0
PRODID:calendify.com
BEGIN:VEVENT
UID:calendify-session-JB9MKAXb4rD
DTSTART:20161230T133000Z
SEQUENCE:0
TRANSP:OPAQUE
DTEND:20161230T143000Z
URL:https://calendify.com/session/JB9MKAXb4rD
LOCATION:Saal 1
SUMMARY:Warum in die Ferne schweifen\, wenn das Ausland liegt so nah?
CLASS:PUBLIC
DESCRIPTION:https://calendify.com/session/JB9MKAXb4rD
DTSTAMP:20260420T142553Z
CREATED:20220415T135303Z
LAST-MODIFIED:20220415T135303Z
END:VEVENT
END:VCALENDAR