BEGIN:VCALENDAR
VERSION:2.0
PRODID:calendify.com
BEGIN:VEVENT
UID:calendify-session-JB9MKAdW4rD
DTSTART:20220609T091500Z
SEQUENCE:0
TRANSP:OPAQUE
DTEND:20220609T101500Z
URL:https://calendify.com/session/JB9MKAdW4rD
LOCATION:Stage 6
SUMMARY:Tolerieren wir uns kaputt? Balancieren zwischen Fake News und Meinu
 ngsfreiheit
CLASS:PUBLIC
DESCRIPTION:https://calendify.com/session/JB9MKAdW4rD
DTSTAMP:20260423T174540Z
CREATED:20220526T162945Z
LAST-MODIFIED:20220613T235204Z
END:VEVENT
END:VCALENDAR