BEGIN:VCALENDAR
VERSION:2.0
PRODID:calendify.com
BEGIN:VEVENT
UID:calendify-session-JB9MKAjq4rD
DTSTART:20220611T181000Z
SEQUENCE:0
TRANSP:OPAQUE
DTEND:20220611T184000Z
URL:https://calendify.com/session/JB9MKAjq4rD
LOCATION:.txt Stage
SUMMARY:Comiclesung mit Mia Oberländer aus \"Anna\"
CLASS:PUBLIC
DESCRIPTION:https://calendify.com/session/JB9MKAjq4rD
DTSTAMP:20260423T162259Z
CREATED:20220526T162948Z
LAST-MODIFIED:20220613T235204Z
END:VEVENT
END:VCALENDAR