BEGIN:VCALENDAR
VERSION:2.0
PRODID:calendify.com
BEGIN:VEVENT
UID:calendify-session-JB9MKAlE4rD
DTSTART:20220205T083000Z
SEQUENCE:0
TRANSP:OPAQUE
DTEND:20220205T090000Z
URL:https://calendify.com/session/JB9MKAlE4rD
LOCATION:S.opensuse
SUMMARY:Welcome to the openSUSE stand
CLASS:PUBLIC
DESCRIPTION:https://calendify.com/session/JB9MKAlE4rD
DTSTAMP:20260422T164032Z
CREATED:20220127T100102Z
LAST-MODIFIED:20220206T225003Z
END:VEVENT
END:VCALENDAR