BEGIN:VCALENDAR
VERSION:2.0
PRODID:calendify.com
BEGIN:VEVENT
UID:calendify-session-JB9MKAnz4rD
DTSTART:20220521T193000Z
SEQUENCE:0
TRANSP:OPAQUE
DTEND:20220521T203000Z
URL:https://calendify.com/session/JB9MKAnz4rD
LOCATION:Blauer Salon
SUMMARY:NixOS Meetup
CLASS:PUBLIC
DESCRIPTION:https://calendify.com/session/JB9MKAnz4rD
DTSTAMP:20260422T205507Z
CREATED:20220516T153433Z
LAST-MODIFIED:20220521T215002Z
END:VEVENT
END:VCALENDAR