BEGIN:VCALENDAR
VERSION:2.0
PRODID:calendify.com
BEGIN:VEVENT
UID:calendify-session-JB9MKAqW4rD
DTSTART:20220206T161000Z
SEQUENCE:0
TRANSP:OPAQUE
DTEND:20220206T164000Z
URL:https://calendify.com/session/JB9MKAqW4rD
LOCATION:D.matrix
SUMMARY:MLS meets Matrix
CLASS:PUBLIC
DESCRIPTION:https://calendify.com/session/JB9MKAqW4rD
DTSTAMP:20260422T194615Z
CREATED:20220120T214608Z
LAST-MODIFIED:20220206T225004Z
END:VEVENT
END:VCALENDAR