BEGIN:VCALENDAR
VERSION:2.0
PRODID:calendify.com
BEGIN:VEVENT
UID:calendify-session-JB9MKAwq4rD
DTSTART:20220609T124500Z
SEQUENCE:0
TRANSP:OPAQUE
DTEND:20220609T131500Z
URL:https://calendify.com/session/JB9MKAwq4rD
LOCATION:Get a Job-Area
SUMMARY:familie redlich: Es werde #MINTMagie
CLASS:PUBLIC
DESCRIPTION:https://calendify.com/session/JB9MKAwq4rD
DTSTAMP:20260423T161934Z
CREATED:20220526T162948Z
LAST-MODIFIED:20220613T235204Z
END:VEVENT
END:VCALENDAR