BEGIN:VCALENDAR
VERSION:2.0
PRODID:calendify.com
BEGIN:VEVENT
UID:calendify-session-JB9MKL7EgrD
DTSTART:20171227T153000Z
SEQUENCE:0
TRANSP:OPAQUE
DTEND:20171227T163000Z
URL:https://calendify.com/session/JB9MKL7EgrD
LOCATION:Saal Adams
SUMMARY:Die Lauschprogramme der Geheimdienste
CLASS:PUBLIC
DESCRIPTION:https://calendify.com/session/JB9MKL7EgrD
DTSTAMP:20260423T230713Z
CREATED:20200625T113327Z
LAST-MODIFIED:20200625T113327Z
END:VEVENT
END:VCALENDAR