BEGIN:VCALENDAR
VERSION:2.0
PRODID:calendify.com
BEGIN:VEVENT
UID:calendify-session-JB9MKLxygrD
DTSTART:20201227T130000Z
SEQUENCE:0
TRANSP:OPAQUE
DTEND:20201227T134000Z
URL:https://calendify.com/session/JB9MKLxygrD
LOCATION:c-base Berlin
SUMMARY:Wie werde ich meine Welt verbessern?!
CLASS:PUBLIC
DESCRIPTION:https://calendify.com/session/JB9MKLxygrD
DTSTAMP:20260423T160119Z
CREATED:20201222T224545Z
LAST-MODIFIED:20211226T143347Z
END:VEVENT
END:VCALENDAR