BEGIN:VCALENDAR
VERSION:2.0
PRODID:calendify.com
BEGIN:VEVENT
UID:calendify-session-JB9MKP5EgrD
DTSTART:20210207T153000Z
SEQUENCE:0
TRANSP:OPAQUE
DTEND:20210207T160000Z
URL:https://calendify.com/session/JB9MKP5EgrD
LOCATION:D.libreoffice
SUMMARY:ODF for Interoperability
CLASS:PUBLIC
DESCRIPTION:https://calendify.com/session/JB9MKP5EgrD
DTSTAMP:20260423T094129Z
CREATED:20210111T170320Z
LAST-MODIFIED:20210208T224804Z
END:VEVENT
END:VCALENDAR