BEGIN:VCALENDAR
VERSION:2.0
PRODID:calendify.com
BEGIN:VEVENT
UID:calendify-session-JB9MKP7ygrD
DTSTART:20210206T113000Z
SEQUENCE:0
TRANSP:OPAQUE
DTEND:20210206T121000Z
URL:https://calendify.com/session/JB9MKP7ygrD
LOCATION:D.sds
SUMMARY:SMB3 Overboard
CLASS:PUBLIC
DESCRIPTION:https://calendify.com/session/JB9MKP7ygrD
DTSTAMP:20260423T161925Z
CREATED:20210111T170319Z
LAST-MODIFIED:20210208T224803Z
END:VEVENT
END:VCALENDAR