BEGIN:VCALENDAR
VERSION:2.0
PRODID:calendify.com
BEGIN:VEVENT
UID:calendify-session-JB9MKP8ygrD
DTSTART:20210207T143500Z
SEQUENCE:0
TRANSP:OPAQUE
DTEND:20210207T145500Z
URL:https://calendify.com/session/JB9MKP8ygrD
LOCATION:D.cicd
SUMMARY:ARM your continuous integration system with fruits!
CLASS:PUBLIC
DESCRIPTION:https://calendify.com/session/JB9MKP8ygrD
DTSTAMP:20260419T211331Z
CREATED:20210111T170319Z
LAST-MODIFIED:20210208T224803Z
END:VEVENT
END:VCALENDAR