BEGIN:VCALENDAR
VERSION:2.0
PRODID:calendify.com
BEGIN:VEVENT
UID:calendify-session-JB9MKPZXgrD
DTSTART:20210206T104500Z
SEQUENCE:0
TRANSP:OPAQUE
DTEND:20210206T114500Z
URL:https://calendify.com/session/JB9MKPZXgrD
LOCATION:D.safety
SUMMARY:Document security and digital signatures in PDF
CLASS:PUBLIC
DESCRIPTION:https://calendify.com/session/JB9MKPZXgrD
DTSTAMP:20260419T194627Z
CREATED:20210114T155442Z
LAST-MODIFIED:20210208T224803Z
END:VEVENT
END:VCALENDAR