BEGIN:VCALENDAR
VERSION:2.0
PRODID:calendify.com
BEGIN:VEVENT
UID:calendify-session-JB9MKPxNgrD
DTSTART:20210207T110000Z
SEQUENCE:0
TRANSP:OPAQUE
DTEND:20210207T113000Z
URL:https://calendify.com/session/JB9MKPxNgrD
LOCATION:S.ntop
SUMMARY:ntopng and Cybersecurity
CLASS:PUBLIC
DESCRIPTION:https://calendify.com/session/JB9MKPxNgrD
DTSTAMP:20260424T002949Z
CREATED:20210203T140304Z
LAST-MODIFIED:20210208T224804Z
END:VEVENT
END:VCALENDAR