BEGIN:VCALENDAR
VERSION:2.0
PRODID:calendify.com
BEGIN:VEVENT
UID:calendify-session-JB9MKW10MrD
DTSTART:20210522T133000Z
SEQUENCE:0
TRANSP:OPAQUE
DTEND:20210522T135500Z
URL:https://calendify.com/session/JB9MKW10MrD
LOCATION:TINCON
SUMMARY:“Ich denke noch selbst!” Verschwörungserzählungen verstehen
CLASS:PUBLIC
DESCRIPTION:https://calendify.com/session/JB9MKW10MrD
DTSTAMP:20260423T020400Z
CREATED:20210510T145032Z
LAST-MODIFIED:20210524T215002Z
END:VEVENT
END:VCALENDAR