BEGIN:VCALENDAR
VERSION:2.0
PRODID:calendify.com
BEGIN:VEVENT
UID:calendify-session-JB9MKW7NMrD
DTSTART:20210317T154500Z
SEQUENCE:0
TRANSP:OPAQUE
DTEND:20210317T164500Z
URL:https://calendify.com/session/JB9MKW7NMrD
LOCATION:Zoom Room 6B
SUMMARY:Economics of the Future of Food
CLASS:PUBLIC
DESCRIPTION:https://calendify.com/session/JB9MKW7NMrD
DTSTAMP:20260422T111621Z
CREATED:20210426T094929Z
LAST-MODIFIED:20210426T094929Z
END:VEVENT
END:VCALENDAR