BEGIN:VCALENDAR
VERSION:2.0
PRODID:calendify.com
BEGIN:VEVENT
UID:calendify-session-JB9MKWLbMrD
DTSTART:20210313T133000Z
SEQUENCE:0
TRANSP:OPAQUE
DTEND:20210313T143000Z
URL:https://calendify.com/session/JB9MKWLbMrD
LOCATION:Zoom Room 1A
SUMMARY:Science Materiality Series Workshop\, from jargon to emotive engage
 ment.
CLASS:PUBLIC
DESCRIPTION:https://calendify.com/session/JB9MKWLbMrD
DTSTAMP:20260420T203145Z
CREATED:20210426T094928Z
LAST-MODIFIED:20210426T094928Z
END:VEVENT
END:VCALENDAR