BEGIN:VCALENDAR
VERSION:2.0
PRODID:calendify.com
BEGIN:VEVENT
UID:calendify-session-JB9MKWXzMrD
DTSTART:20210521T132500Z
SEQUENCE:0
TRANSP:OPAQUE
DTEND:20210521T133500Z
URL:https://calendify.com/session/JB9MKWXzMrD
LOCATION:Kanal 2
SUMMARY:Warum wir Utopien brauchen
CLASS:PUBLIC
DESCRIPTION:https://calendify.com/session/JB9MKWXzMrD
DTSTAMP:20260423T082716Z
CREATED:20210429T130909Z
LAST-MODIFIED:20210524T215002Z
END:VEVENT
END:VCALENDAR