BEGIN:VCALENDAR
VERSION:2.0
PRODID:calendify.com
BEGIN:VEVENT
UID:calendify-session-JB9MKWr0MrD
DTSTART:20220206T163000Z
SEQUENCE:0
TRANSP:OPAQUE
DTEND:20220206T165500Z
URL:https://calendify.com/session/JB9MKWr0MrD
LOCATION:D.ada
SUMMARY:Exporting Ada Software to Python and Julia
CLASS:PUBLIC
DESCRIPTION:https://calendify.com/session/JB9MKWr0MrD
DTSTAMP:20260420T132247Z
CREATED:20220120T214605Z
LAST-MODIFIED:20220206T225003Z
END:VEVENT
END:VCALENDAR