BEGIN:VCALENDAR
VERSION:2.0
PRODID:calendify.com
BEGIN:VEVENT
UID:calendify-session-JB9MKXPagrD
DTSTART:20241228T125000Z
SEQUENCE:0
TRANSP:OPAQUE
DTEND:20241228T133000Z
URL:https://calendify.com/session/JB9MKXPagrD
LOCATION:Saal 1
SUMMARY:Wann klappt der Anschluss\, wann nicht und wie sagt man Chaos vorhe
 r?
CLASS:PUBLIC
DESCRIPTION:https://calendify.com/session/JB9MKXPagrD
DTSTAMP:20260423T162244Z
CREATED:20241208T214807Z
LAST-MODIFIED:20250101T225002Z
END:VEVENT
END:VCALENDAR