BEGIN:VCALENDAR
VERSION:2.0
PRODID:calendify.com
BEGIN:VEVENT
UID:calendify-session-JdVga8eKMPj
DTSTART:20221228T173000Z
SEQUENCE:0
TRANSP:OPAQUE
DTEND:20221228T180000Z
URL:https://calendify.com/session/JdVga8eKMPj
LOCATION:WICMP Seminarraum
SUMMARY:Nix gelernt und eine Einführung in das Thema IaC [ENGLISH]
CLASS:PUBLIC
DESCRIPTION:https://calendify.com/session/JdVga8eKMPj
DTSTAMP:20260422T163937Z
CREATED:20221221T105639Z
LAST-MODIFIED:20221230T225006Z
END:VEVENT
END:VCALENDAR