BEGIN:VCALENDAR
VERSION:2.0
PRODID:calendify.com
BEGIN:VEVENT
UID:calendify-session-JdVga8jWMPj
DTSTART:20221228T100000Z
SEQUENCE:0
TRANSP:OPAQUE
DTEND:20221228T113000Z
URL:https://calendify.com/session/JdVga8jWMPj
LOCATION:Vortragsraum 2 - Bhavani - H1-5.2
SUMMARY:12 Häuser\, 13 Jahre selbstverwaltetes soziokulturelles Leben im G
 ängeviertel
CLASS:PUBLIC
DESCRIPTION:https://calendify.com/session/JdVga8jWMPj
DTSTAMP:20260420T032152Z
CREATED:20221225T160108Z
LAST-MODIFIED:20221230T225007Z
END:VEVENT
END:VCALENDAR