BEGIN:VCALENDAR
VERSION:2.0
PRODID:calendify.com
BEGIN:VEVENT
UID:calendify-session-JdVgaD0QMPj
DTSTART:20201229T184500Z
SEQUENCE:0
TRANSP:OPAQUE
DTEND:20201229T192500Z
URL:https://calendify.com/session/JdVgaD0QMPj
LOCATION:franconian.net
SUMMARY:Blender-Construction
CLASS:PUBLIC
DESCRIPTION:https://calendify.com/session/JdVgaD0QMPj
DTSTAMP:20260424T032327Z
CREATED:20201221T231542Z
LAST-MODIFIED:20210114T154804Z
END:VEVENT
END:VCALENDAR